BEGIN:VCALENDAR
VERSION:2.0
PRODID:-// - ECPv6.11.0//NONSGML v1.0//EN
CALSCALE:GREGORIAN
METHOD:PUBLISH
X-ORIGINAL-URL:https://www.les-batignolles.com
X-WR-CALDESC:Évènements pour 
REFRESH-INTERVAL;VALUE=DURATION:PT1H
X-Robots-Tag:noindex
X-PUBLISHED-TTL:PT1H
BEGIN:VTIMEZONE
TZID:Europe/Paris
BEGIN:DAYLIGHT
TZOFFSETFROM:+0100
TZOFFSETTO:+0200
TZNAME:CEST
DTSTART:20260329T010000
END:DAYLIGHT
BEGIN:STANDARD
TZOFFSETFROM:+0200
TZOFFSETTO:+0100
TZNAME:CET
DTSTART:20261025T010000
END:STANDARD
END:VTIMEZONE
BEGIN:VEVENT
DTSTART;TZID=Europe/Paris:20260508T150000
DTEND;TZID=Europe/Paris:20260508T170000
DTSTAMP:20260419T140939
CREATED:20260416T110139Z
LAST-MODIFIED:20260416T110139Z
UID:8091-1778252400-1778259600@www.les-batignolles.com
SUMMARY:ATELIER AQUARELLE-CARNET DE VOYAGE AVEC CÉLIA\, ILLUSTRATRICE
DESCRIPTION:Un atelier pour apprendre à composer un carnet de voyage à l'aquarelle. \nPendant 2h30\, vous apprendrez les bases du dessin et de l’aquarelle. \nL’atelier sera divisé en deux temps : durant la première heure\, vous apprendrez à dessiner une nature morte d'après modèle ainsi qu’un paysage. Puis\, vous passerez à votre propre page de carnet de voyage\, tiré d’une de vos expériences.\n\nTout le matériel est compris\, sauf le carnet. Vous pouvez apporter le vôtre si vous souhaitez.\n\nOuvert à tous les niveaux\, même les plus débutants. \n+ une boisson au choix incluse.
URL:https://www.les-batignolles.com/agenda/atelier-aquarelle-carnet-de-voyage-avec-celia-illustratrice/
LOCATION:Fleurette\, 96 rue Nollet
CATEGORIES:ATELIERS
END:VEVENT
END:VCALENDAR